Workbook

Sheet 【シートA　評価結果入力シート】このシートに入力してください】
B1: 第三者評価結果入力シート（児童養護施設）第5期受審期
A3: TYPE | B3: 種別 | D3: 児童養護施設
B5: ①第三者評価機関名 | M5: 評価結果
A6: ORG | M6: a | N6: ◯
M7: b
B8: ②評価調査者研修修了番号 | M8: c
A9: H34
A10: H35
A11: H36
A12: H37
A13: H40
A14: H41
B16: ③施設名等
A17: H1 | B17: 名 称： | D17: 田川湯山荘
A18: H2 | B18: 施設長氏名：
A19: H3 | B19: 定 員： | D19: 名
A20: H4 | B20: 所在地(都道府県)：
A21: H5 | B21: 所在地(市町村以下)：
A22: H6 | B22: T E L ：
A23: H7 | B23: U R L ：
B24: 【施設の概要】
A25: H12 | B25: 開設年月日
A26: H13 | B26: 経営法人・設置主体（法人名等）：
A27: H14 | B27: 職員数 常勤職員 ： | D27: 名
A28: H15 | B28: 職員数 非常勤職員 ： | D28: 名
A29: H16 | B29: 有資格職員の名称（ア）
A30: H17 | B30: 上記有資格職員の人数： | D30: 名
A31: H18 | B31: 有資格職員の名称（イ）
A32: H19 | B32: 上記有資格職員の人数： | D32: 名
A33: H20 | B33: 有資格職員の名称（ウ）
A34: H21 | B34: 上記有資格職員の人数： | D34: 名
A35: H38 | B35: 有資格職員の名称（エ）
A36: H39 | B36: 上記有資格職員の人数： | D36: 名
A37: H22 | B37: 有資格職員の名称（オ）
A38: H23 | B38: 上記有資格職員の人数： | D38: 名
A39: H24 | B39: 有資格職員の名称（カ）
A40: H25 | B40: 上記有資格職員の人数： | D40: 名
A41: H26 | B41: 施設設備の概要（ア）居室数：
A42: H27 | B42: 施設設備の概要（イ）設備等：
A43: H28 | B43: 施設設備の概要（ウ）：
A44: H29 | B44: 施設設備の概要（エ）：
B46: ④理念・基本方針
A47: H30
B49: ⑤施設の特徴的な取組
A50: H31
B52: ⑥第三者評価の受審状況
A53: H8 | B53: 評価実施期間（ア）契約日（開始日）
A54: H9 | B54: 評価実施期間（イ）評価結果確定日
A55: H33 | B55: 前回の受審時期（評価結果確定年度） | D55: 年度（和暦）
B57: ⑦総評
A58: H10
B60: ⑧第三者評価結果に対する施設のコメント
A61: H11
B64: ⑨第三者評価結果（別紙）
E65: （別紙）
B66: 第三者評価結果（児童養護施設）
F68: 第三者評価結果
A69: G0 | B69: 共通評価基準（45項目）Ⅰ 養育・支援の基本方針と組織 | F69: a | G69: ◯
A70: G1 | B70: １ 理念・基本方針 | F70: b
A71: G2 | B71: （１） 理念、基本方針が確立・周知されている。 | E71: 第三者 評価結果 | F71: c
A72: AP | C72: ① | D72: 1 理念、基本方針が明文化され周知が図られている。 | F72: 1 | G72: b
A73: AC | D73: □理念、基本方針が法人、施設内の文書や広報媒体（パンフレット、ホームページ等）に記載されている。
A74: AC | D74: □理念は、法人、施設が実施する養育・支援の内容や特性を踏まえた法人、施設の使命や目指す方向、考え方を読み取ることができる。
A75: AC | D75: □基本方針は、法人の理念との整合性が確保されているとともに、職員の行動規範となるよう具体的な内容となっている。
A76: AC | D76: □理念や基本方針は、会議や研修会での説明、会議での協議等をもって、職員への周知が図られている。
A77: AC | D77: □理念や基本方針は、わかりやすく説明した資料を作成するなどの工夫がなされ、こどもや保護者等への周知が図られている。
A78: AC | D78: □理念や基本方針の周知状況を確認し、継続的な取組を行っている。
A79: TH | B79: 【コメント】
A80: TT | D80: ○ 法人としての理念や基本方針はホームページ、広報誌、パンフレット等で明示され、「人間の尊厳」「社会性の育成」「地域交流」などが掲げられています。施設としては「こども一人ひとりの意見を尊重する」「社会的自立を目指す」ことを運営方針として定め、年度初めの会議において資料を配布し、職員への説明を通じて理念や方針の共有を図っています。 ○ 今後は、こどもや保護者、地域の人々へ理念・基本方針を丁寧に説明しながら、周知することが望まれる。
A83: G1 | B83: ２ 経営状況の把握
A84: G2 | B84: （１） 経営環境の変化等に適切に対応している。 | E84: 第三者 評価結果
A85: AP | C85: ① | D85: 2 施設経営をとりまく環境と経営状況が的確に把握・分析されている。 | F85: 2 | G85: c
A86: AC | D86: □社会福祉事業全体の動向について、具体的に把握し分析している。
A87: AC | D87: □地域の各種福祉計画の策定動向と内容を把握し分析している。
A88: AC | D88: □こどもの数・こども像等、養育・支援のニーズ、潜在的に支援を必要とするこどもに関するデータを収集するなど、施設（法人）が位置する地域での特徴・変化等の経営環境や課題を把握し分析している。
A89: AC | D89: □定期的に養育・支援のコスト分析や施設入所を必要とするこどもの推移、利用率等の分析を行っている。
A90: TH | B90: 【コメント】
A91: TT | D91: ○ また、施設経営の安定性や将来性を展望する為に必要な定期的なコスト分析や利用率等の分析が不足している。今後、こども・子育て支援事業計画を中心とした各福祉計画の把握、PDCAサイクルに基づいた、経営に関する取組を期待したい。
A93: AP | C93: ② | D93: 3 経営課題を明確にし、具体的な取組を進めている。 | F93: 3 | G93: c
A94: AC | D94: □経営環境や養育・支援の内容、組織体制や設備の整備、職員体制、人材育成、財務状況等の現状分析にもとづき、具体的な課題や問題点を明らかにしている。
A95: AC | D95: □経営状況や改善すべき課題について、役員（理事・監事等）間での共有がなされている。
A96: AC | D96: □経営状況や改善すべき課題について、職員に周知している。
A97: AC | D97: □経営課題の解決・改善に向けて具体的な取組が進められている。
A98: TH | B98: 【コメント】
A99: TT | D99: ○ 園長からユニットリーダーへ、さらに現場職員へと伝達・共有される流れが十分に機能していない面があり、今後は経営方針や課題に対する職員の理解を深めるための工夫が期待されます。
A101: G1 | B101: ３ 事業計画の策定
A102: G2 | B102: （１） 中・長期的なビジョンと計画が明確にされている。 | E102: 第三者 評価結果
A103: AP | C103: ① | D103: 4 中・長期的なビジョンを明確にした計画が策定されている。 | F103: 4 | G103: b
A104: AC | D104: □中・長期計画において、理念や基本方針の実現に向けた目標（ビジョン）を明確にしている。
A105: AC | D105: □中・長期計画は、経営課題や問題点の解決・改善に向けた具体的な内容になっている。
A106: AC | D106: □中・長期計画は、数値目標や具体的な成果等を設定することなどにより、実施状況の評価を行える内容となっている。
A107: AC | D107: □中・長期計画は必要に応じて見直しを行っている。
A108: TH | B108: 【コメント】
A109: TT | D109: ○ 経営や養育・支援に関する、中・長期の事業計画または中・長期の収支計画のどちらかを策定していなく、十分ではない。長期計画については令和元年に法人の10年計画が策定されて令和10年までの事業展開の状況や所属のそれぞれの施設の課題と取り組みが明確に示されている。 ○ 中・長期的なビジョンの策定では、令和6年7年度にまとめられていますが、経営層のイメージだけでなく具体的な成果が出て評価できるように組織として「見える化」をし、各年度ごとに課題の優先順位の項目を割り振りしたりした計画とその収支についても期待します。
A111: AP | C111: ② | D111: 5 中・長期計画を踏まえた単年度の計画が策定されている。 | F111: 5 | G111: b
A112: AC | D112: □単年度の計画（事業計画と収支予算）に、中・長期計画（中・長期の事業計画と中・長期の収支計画）の内容が反映されている。
A113: AC | D113: □単年度の計画は、実行可能な具体的な内容となっている。
A114: AC | D114: □単年度の事業計画は、単なる「行事計画」になっていない。
A115: AC | D115: □単年度の事業計画は、数値目標や具体的な成果等を設定することなどにより、実施状況の評価を行える内容となっている。
A116: TH | B116: 【コメント】
...

Sheet 【シートB　評価結果シート（コピー）】
A1: 第三者評価結果入力シート（児童養護施設）
A3: 種別 | C3: ='【シートA 評価結果入力シート】このシートに入力してください】'!D3 -> 児童養護施設
A5: ①第三者評価機関名
A6: ='【シートA 評価結果入力シート】このシートに入力してください】'!B6 -> 0
A8: ②評価調査者研修修了番号
A9: ='【シートA 評価結果入力シート】このシートに入力してください】'!B9 -> 0
A10: ='【シートA 評価結果入力シート】このシートに入力してください】'!B10 -> 0
A11: ='【シートA 評価結果入力シート】このシートに入力してください】'!B11 -> 0
A12: ='【シートA 評価結果入力シート】このシートに入力してください】'!B12 -> 0
A13: ='【シートA 評価結果入力シート】このシートに入力してください】'!B13 -> 0
A14: ='【シートA 評価結果入力シート】このシートに入力してください】'!B14 -> 0
A16: ③施設名等
A17: 名 称： | C17: ='【シートA 評価結果入力シート】このシートに入力してください】'!D17 -> 0
A18: 施設長氏名： | C18: ='【シートA 評価結果入力シート】このシートに入力してください】'!D18 -> 0
A19: 定 員： | C19: ='【シートA 評価結果入力シート】このシートに入力してください】'!D19 -> 名
A20: 所在地(都道府県)： | C20: ='【シートA 評価結果入力シート】このシートに入力してください】'!D20 -> 0
A21: 所在地(市町村以下)： | C21: ='【シートA 評価結果入力シート】このシートに入力してください】'!D21 -> 0
A22: T E L ： | C22: ='【シートA 評価結果入力シート】このシートに入力してください】'!D22 -> 0
A23: U R L ： | C23: ='【シートA 評価結果入力シート】このシートに入力してください】'!D23 -> 0
A24: 【施設の概要】
A25: 開設年月日 | C25: ='【シートA 評価結果入力シート】このシートに入力してください】'!D25 -> 0
A26: 経営法人・設置主体（法人名等）： | C26: ='【シートA 評価結果入力シート】このシートに入力してください】'!D26 -> 0
A27: 職員数 常勤職員 ： | C27: ='【シートA 評価結果入力シート】このシートに入力してください】'!D27 -> 名
A28: 職員数 非常勤職員 ： | C28: ='【シートA 評価結果入力シート】このシートに入力してください】'!D28 -> 名
A29: 有資格職員の名称（ア） | C29: ='【シートA 評価結果入力シート】このシートに入力してください】'!D29 -> 0
A30: 上記有資格職員の人数： | C30: ='【シートA 評価結果入力シート】このシートに入力してください】'!D30 -> 名
A31: 有資格職員の名称（イ） | C31: ='【シートA 評価結果入力シート】このシートに入力してください】'!D31 -> 0
A32: 上記有資格職員の人数： | C32: ='【シートA 評価結果入力シート】このシートに入力してください】'!D32 -> 名
A33: 有資格職員の名称（ウ） | C33: ='【シートA 評価結果入力シート】このシートに入力してください】'!D33 -> 0
A34: 上記有資格職員の人数： | C34: ='【シートA 評価結果入力シート】このシートに入力してください】'!D34 -> 名
A35: 有資格職員の名称（エ） | C35: ='【シートA 評価結果入力シート】このシートに入力してください】'!D35 -> 0
A36: 上記有資格職員の人数： | C36: ='【シートA 評価結果入力シート】このシートに入力してください】'!D36 -> 名
... A44: 施設設備の概要（エ）： | C44: ='【シートA 評価結果入力シート】このシートに入力してください】'!D44 -> 0
A46: ④理念・基本方針
A47: ='【シートA 評価結果入力シート】このシートに入力してください】'!B47 -> 0
A49: ⑤施設の特徴的な取組
A50: ='【シートA 評価結果入力シート】このシートに入力してください】'!B50 -> 0
A52: ⑥第三者評価の受審状況
A53: 評価実施期間（ア）契約日（開始日） | C53: ='【シートA 評価結果入力シート】このシートに入力してください】'!D53 -> 0
A54: 評価実施期間（イ）評価結果確定日 | C54: ='【シートA 評価結果入力シート】このシートに入力してください】'!D54 -> 0
A55: 前回の受審時期（評価結果確定年度） | C55: ='【シートA 評価結果入力シート】このシートに入力してください】'!D55 -> 年度（和暦）
A57: ⑦総評
A58: ='【シートA 評価結果入力シート】このシートに入力してください】'!B58 -> 0
A60: ⑧第三者評価結果に対する施設のコメント
A61: ='【シートA 評価結果入力シート】このシートに入力してください】'!B61 -> 0
A64: ⑨第三者評価結果（別紙）
D65: （別紙）
A66: 第三者評価結果（児童養護施設）
A69: 共通評価基準（45項目）Ⅰ 養育・支援の基本方針と組織
A70: １ 理念・基本方針
A71: （１） 理念、基本方針が確立・周知されている。 | D71: 第三者 評価結果
B72: ① | C72: 1 理念、基本方針が明文化され周知が図られている。 | D72: ='【シートA 評価結果入力シート】このシートに入力してください】'!E72 -> 0
C73: □理念、基本方針が法人、施設内の文書や広報媒体（パンフレット、ホームページ等）に記載されている。 | D73: ='【シートA 評価結果入力シート】このシートに入力してください】'!E73 -> 0
C74: □理念は、法人、施設が実施する養育・支援の内容や特性を踏まえた法人、施設の使命や目指す方向、考え方を読み取ることができる。 | D74: ='【シートA 評価結果入力シート】このシートに入力してください】'!E74 -> 0
C75: □基本方針は、法人の理念との整合性が確保されているとともに、職員の行動規範となるよう具体的な内容となっている。 | D75: ='【シートA 評価結果入力シート】このシートに入力してください】'!E75 -> 0
C76: □理念や基本方針は、会議や研修会での説明、会議での協議等をもって、職員への周知が図られている。 | D76: ='【シートA 評価結果入力シート】このシートに入力してください】'!E76 -> 0
C77: □理念や基本方針は、わかりやすく説明した資料を作成するなどの工夫がなされ、こどもや保護者等への周知が図られている。 | D77: ='【シートA 評価結果入力シート】このシートに入力してください】'!E77 -> 0
C78: □理念や基本方針の周知状況を確認し、継続的な取組を行っている。 | D78: ='【シートA 評価結果入力シート】このシートに入力してください】'!E78 -> 0
A79: 【コメント】
A80: ='【シートA 評価結果入力シート】このシートに入力してください】'!B80 -> 0
A83: ２ 経営状況の把握
A84: （１） 経営環境の変化等に適切に対応している。 | D84: 第三者 評価結果
B85: ① | C85: 2 施設経営をとりまく環境と経営状況が的確に把握・分析されている。 | D85: ='【シートA 評価結果入力シート】このシートに入力してください】'!E85 -> 0
C86: □社会福祉事業全体の動向について、具体的に把握し分析している。 | D86: ='【シートA 評価結果入力シート】このシートに入力してください】'!E86 -> 0
C87: □地域の各種福祉計画の策定動向と内容を把握し分析している。 | D87: ='【シートA 評価結果入力シート】このシートに入力してください】'!E87 -> 0
C88: □こどもの数・こども像等、養育・支援のニーズ、潜在的に支援を必要とするこどもに関するデータを収集するなど、施設（法人）が位置する地域での特徴・変化等の経営環境や課題を把握し分析している。 | D88: ='【シートA 評価結果入力シート】このシートに入力してください】'!E88 -> 0
C89: □定期的に養育・支援のコスト分析や施設入所を必要とするこどもの推移、利用率等の分析を行っている。 | D89: ='【シートA 評価結果入力シート】このシートに入力してください】'!E89 -> 0
A90: 【コメント】
A91: ='【シートA 評価結果入力シート】このシートに入力してください】'!B91 -> 0
B93: ② | C93: 3 経営課題を明確にし、具体的な取組を進めている。 | D93: ='【シートA 評価結果入力シート】このシートに入力してください】'!E93 -> 0
C94: □経営環境や養育・支援の内容、組織体制や設備の整備、職員体制、人材育成、財務状況等の現状分析にもとづき、具体的な課題や問題点を明らかにしている。 | D94: ='【シートA 評価結果入力シート】このシートに入力してください】'!E94 -> 0
C95: □経営状況や改善すべき課題について、役員（理事・監事等）間での共有がなされている。 | D95: ='【シートA 評価結果入力シート】このシートに入力してください】'!E95 -> 0
C96: □経営状況や改善すべき課題について、職員に周知している。 | D96: ='【シートA 評価結果入力シート】このシートに入力してください】'!E96 -> 0
C97: □経営課題の解決・改善に向けて具体的な取組が進められている。 | D97: ='【シートA 評価結果入力シート】このシートに入力してください】'!E97 -> 0
A98: 【コメント】
A99: ='【シートA 評価結果入力シート】このシートに入力してください】'!B99 -> 0
A101: ３ 事業計画の策定
A102: （１） 中・長期的なビジョンと計画が明確にされている。 | D102: 第三者 評価結果
B103: ① | C103: 4 中・長期的なビジョンを明確にした計画が策定されている。 | D103: ='【シートA 評価結果入力シート】このシートに入力してください】'!E103 -> 0
C104: □中・長期計画において、理念や基本方針の実現に向けた目標（ビジョン）を明確にしている。 | D104: ='【シートA 評価結果入力シート】このシートに入力してください】'!E104 -> 0
C105: □中・長期計画は、経営課題や問題点の解決・改善に向けた具体的な内容になっている。 | D105: ='【シートA 評価結果入力シート】このシートに入力してください】'!E105 -> 0
C106: □中・長期計画は、数値目標や具体的な成果等を設定することなどにより、実施状況の評価を行える内容となっている。 | D106: ='【シートA 評価結果入力シート】このシートに入力してください】'!E106 -> 0
C107: □中・長期計画は必要に応じて見直しを行っている。 | D107: ='【シートA 評価結果入力シート】このシートに入力してください】'!E107 -> 0
A108: 【コメント】
A109: ='【シートA 評価結果入力シート】このシートに入力してください】'!B109 -> 0
B111: ② | C111: 5 中・長期計画を踏まえた単年度の計画が策定されている。 | D111: ='【シートA 評価結果入力シート】このシートに入力してください】'!E111 -> 0
C112: □単年度の計画（事業計画と収支予算）に、中・長期計画（中・長期の事業計画と中・長期の収支計画）の内容が反映されている。 | D112: ='【シートA 評価結果入力シート】このシートに入力してください】'!E112 -> 0
C113: □単年度の計画は、実行可能な具体的な内容となっている。 | D113: ='【シートA 評価結果入力シート】このシートに入力してください】'!E113 -> 0
C114: □単年度の事業計画は、単なる「行事計画」になっていない。 | D114: ='【シートA 評価結果入力シート】このシートに入力してください】'!E114 -> 0
C115: □単年度の事業計画は、数値目標や具体的な成果等を設定することなどにより、実施状況の評価を行える内容となっている。 | D115: ='【シートA 評価結果入力シート】このシートに入力してください】'!E115 -> 0
A116: 【コメント】
A117: ='【シートA 評価結果入力シート】このシートに入力してください】'!B117 -> 0
A118: （２） 事業計画が適切に策定されている。
B119: ① | C119: 6 事業計画の策定と実施状況の把握や評価・見直しが組織的に行われ、職員が理解している。 | D119: ='【シートA 評価結果入力シート】このシートに入力してください】'!E119 -> 0
C120: □事業計画が、職員等の参画や意見の集約・反映のもとで策定されている。 | D120: ='【シートA 評価結果入力シート】このシートに入力してください】'!E120 -> 0
C121: □計画期間中において、事業計画の実施状況が、あらかじめ定められた時期、手順にもとづいて把握されている。 | D121: ='【シートA 評価結果入力シート】このシートに入力してください】'!E121 -> 0
C122: □事業計画が、あらかじめ定められた時期、手順にもとづいて評価されている。 | D122: ='【シートA 評価結果入力シート】このシートに入力してください】'!E122 -> 0
C123: □評価の結果にもとづいて事業計画の見直しを行っている。 | D123: ='【シートA 評価結果入力シート】このシートに入力してください】'!E123 -> 0
C124: □事業計画が、職員に周知（会議や研修会における説明等が）されており、理解を促すための取組を行っている。 | D124: ='【シートA 評価結果入力シート】このシートに入力してください】'!E124 -> 0
A125: 【コメント】
...

Sheet 【編集不可 事務局使用Sheet】
B1: ='【シートA 評価結果入力シート】このシートに入力してください】'!B1 -> 第三者評価結果入力シート（児童養護施設）第5期受審期
B3: 種別 | D3: ='【シートB 評価結果シート（コピー）】'!C3 -> 児童養護施設
B5: ①第三者評価機関名
B6: ='【シートA 評価結果入力シート】このシートに入力してください】'!B6 -> 0
B8: ②評価調査者研修修了番号
B9: ='【シートA 評価結果入力シート】このシートに入力してください】'!B9 -> 0
B10: ='【シートA 評価結果入力シート】このシートに入力してください】'!B10 -> 0
B11: ='【シートA 評価結果入力シート】このシートに入力してください】'!B11 -> 0
B12: ='【シートA 評価結果入力シート】このシートに入力してください】'!B12 -> 0
B13: ='【シートA 評価結果入力シート】このシートに入力してください】'!B13 -> 0
B14: ='【シートA 評価結果入力シート】このシートに入力してください】'!B14 -> 0
B16: ③施設名等
B17: 名 称： | D17: ='【シートA 評価結果入力シート】このシートに入力してください】'!D17 -> 0
B18: 施設長氏名： | D18: ='【シートA 評価結果入力シート】このシートに入力してください】'!D18 -> 0
B19: 定 員： | D19: ='【シートA 評価結果入力シート】このシートに入力してください】'!D19 -> 名
B20: 所在地(都道府県)： | D20: ='【シートA 評価結果入力シート】このシートに入力してください】'!D20 -> 0
B21: 所在地(市町村以下)： ※公表しない事項 | D21: ='【シートA 評価結果入力シート】このシートに入力してください】'!D21 -> 0
B22: T E L ： ※公表しない事項 | D22: ='【シートA 評価結果入力シート】このシートに入力してください】'!D22 -> 0
B23: U R L ： | D23: ='【シートA 評価結果入力シート】このシートに入力してください】'!D23 -> 0
B25: ⑥第三者評価の受審状況
B26: 評価実施期間（ア）契約日（開始日） | D26: ='【シートA 評価結果入力シート】このシートに入力してください】'!D53 -> 0
B27: 評価実施期間（イ）評価結果確定日 | D27: ='【シートA 評価結果入力シート】このシートに入力してください】'!D54 -> 0
B28: 前回の受審時期 | D28: ='【シートA 評価結果入力シート】このシートに入力してください】'!D55 -> 年度（和暦）
