Workbook

Sheet 【シートA　評価結果入力シート】このシートに入力してください】
B1: 第三者評価結果入力シート（児童養護施設）第5期受審期
A3: TYPE | B3: 種別 | D3: 児童養護施設
B5: ①第三者評価機関名 | M5: 評価結果
A6: ORG | M6: a | N6: ◯
M7: b
B8: ②評価調査者研修修了番号 | M8: c
A9: H34
A10: H35
A11: H36
A12: H37
A13: H40
A14: H41
B16: ③施設名等
A17: H1 | B17: 名 称： | D17: 田川湯山荘
A18: H2 | B18: 施設長氏名：
A19: H3 | B19: 定 員： | D19: 名
A20: H4 | B20: 所在地(都道府県)：
A21: H5 | B21: 所在地(市町村以下)：
A22: H6 | B22: T E L ：
A23: H7 | B23: U R L ：
B24: 【施設の概要】
A25: H12 | B25: 開設年月日
A26: H13 | B26: 経営法人・設置主体（法人名等）：
A27: H14 | B27: 職員数 常勤職員 ： | D27: 名
A28: H15 | B28: 職員数 非常勤職員 ： | D28: 名
A29: H16 | B29: 有資格職員の名称（ア）
A30: H17 | B30: 上記有資格職員の人数： | D30: 名
A31: H18 | B31: 有資格職員の名称（イ）
A32: H19 | B32: 上記有資格職員の人数： | D32: 名
A33: H20 | B33: 有資格職員の名称（ウ）
A34: H21 | B34: 上記有資格職員の人数： | D34: 名
A35: H38 | B35: 有資格職員の名称（エ）
A36: H39 | B36: 上記有資格職員の人数： | D36: 名
A37: H22 | B37: 有資格職員の名称（オ）
A38: H23 | B38: 上記有資格職員の人数： | D38: 名
A39: H24 | B39: 有資格職員の名称（カ）
A40: H25 | B40: 上記有資格職員の人数： | D40: 名
A41: H26 | B41: 施設設備の概要（ア）居室数：
A42: H27 | B42: 施設設備の概要（イ）設備等：
A43: H28 | B43: 施設設備の概要（ウ）：
...

Sheet 【シートB　評価結果シート（コピー）】
A1: 第三者評価結果入力シート（児童養護施設）
A3: 種別 | C3: ='【シートA 評価結果入力シート】このシートに入力してください】'!D3 -> 児童養護施設
A5: ①第三者評価機関名
A6: ='【シートA 評価結果入力シート】このシートに入力してください】'!B6 -> 0
A8: ②評価調査者研修修了番号
A9: ='【シートA 評価結果入力シート】このシートに入力してください】'!B9 -> 0
A10: ='【シートA 評価結果入力シート】このシートに入力してください】'!B10 -> 0
A11: ='【シートA 評価結果入力シート】このシートに入力してください】'!B11 -> 0
A12: ='【シートA 評価結果入力シート】このシートに入力してください】'!B12 -> 0
A13: ='【シートA 評価結果入力シート】このシートに入力してください】'!B13 -> 0
A14: ='【シートA 評価結果入力シート】このシートに入力してください】'!B14 -> 0
A16: ③施設名等
A17: 名 称： | C17: ='【シートA 評価結果入力シート】このシートに入力してください】'!D17 -> 0
A18: 施設長氏名： | C18: ='【シートA 評価結果入力シート】このシートに入力してください】'!D18 -> 0
A19: 定 員： | C19: ='【シートA 評価結果入力シート】このシートに入力してください】'!D19 -> 名
A20: 所在地(都道府県)： | C20: ='【シートA 評価結果入力シート】このシートに入力してください】'!D20 -> 0
A21: 所在地(市町村以下)： | C21: ='【シートA 評価結果入力シート】このシートに入力してください】'!D21 -> 0
A22: T E L ： | C22: ='【シートA 評価結果入力シート】このシートに入力してください】'!D22 -> 0
A23: U R L ： | C23: ='【シートA 評価結果入力シート】このシートに入力してください】'!D23 -> 0
A24: 【施設の概要】
A25: 開設年月日 | C25: ='【シートA 評価結果入力シート】このシートに入力してください】'!D25 -> 0
A26: 経営法人・設置主体（法人名等）： | C26: ='【シートA 評価結果入力シート】このシートに入力してください】'!D26 -> 0
A27: 職員数 常勤職員 ： | C27: ='【シートA 評価結果入力シート】このシートに入力してください】'!D27 -> 名
A28: 職員数 非常勤職員 ： | C28: ='【シートA 評価結果入力シート】このシートに入力してください】'!D28 -> 名
A29: 有資格職員の名称（ア） | C29: ='【シートA 評価結果入力シート】このシートに入力してください】'!D29 -> 0
A30: 上記有資格職員の人数： | C30: ='【シートA 評価結果入力シート】このシートに入力してください】'!D30 -> 名
A31: 有資格職員の名称（イ） | C31: ='【シートA 評価結果入力シート】このシートに入力してください】'!D31 -> 0
A32: 上記有資格職員の人数： | C32: ='【シートA 評価結果入力シート】このシートに入力してください】'!D32 -> 名
A33: 有資格職員の名称（ウ） | C33: ='【シートA 評価結果入力シート】このシートに入力してください】'!D33 -> 0
A34: 上記有資格職員の人数： | C34: ='【シートA 評価結果入力シート】このシートに入力してください】'!D34 -> 名
A35: 有資格職員の名称（エ） | C35: ='【シートA 評価結果入力シート】このシートに入力してください】'!D35 -> 0
A36: 上記有資格職員の人数： | C36: ='【シートA 評価結果入力シート】このシートに入力してください】'!D36 -> 名
... A44: 施設設備の概要（エ）： | C44: ='【シートA 評価結果入力シート】このシートに入力してください】'!D44 -> 0
A46: ④理念・基本方針
A47: ='【シートA 評価結果入力シート】このシートに入力してください】'!B47 -> 0
A49: ⑤施設の特徴的な取組
A50: ='【シートA 評価結果入力シート】このシートに入力してください】'!B50 -> 0
A52: ⑥第三者評価の受審状況
A53: 評価実施期間（ア）契約日（開始日） | C53: ='【シートA 評価結果入力シート】このシートに入力してください】'!D53 -> 0
A54: 評価実施期間（イ）評価結果確定日 | C54: ='【シートA 評価結果入力シート】このシートに入力してください】'!D54 -> 0
...

Sheet 【編集不可 事務局使用Sheet】
B1: ='【シートA 評価結果入力シート】このシートに入力してください】'!B1 -> 第三者評価結果入力シート（児童養護施設）第5期受審期
B3: 種別 | D3: ='【シートB 評価結果シート（コピー）】'!C3 -> 児童養護施設
B5: ①第三者評価機関名
B6: ='【シートA 評価結果入力シート】このシートに入力してください】'!B6 -> 0
B8: ②評価調査者研修修了番号
B9: ='【シートA 評価結果入力シート】このシートに入力してください】'!B9 -> 0
B10: ='【シートA 評価結果入力シート】このシートに入力してください】'!B10 -> 0
B11: ='【シートA 評価結果入力シート】このシートに入力してください】'!B11 -> 0
B12: ='【シートA 評価結果入力シート】このシートに入力してください】'!B12 -> 0
B13: ='【シートA 評価結果入力シート】このシートに入力してください】'!B13 -> 0
B14: ='【シートA 評価結果入力シート】このシートに入力してください】'!B14 -> 0
B16: ③施設名等
B17: 名 称： | D17: ='【シートA 評価結果入力シート】このシートに入力してください】'!D17 -> 0
B18: 施設長氏名： | D18: ='【シートA 評価結果入力シート】このシートに入力してください】'!D18 -> 0
B19: 定 員： | D19: ='【シートA 評価結果入力シート】このシートに入力してください】'!D19 -> 名
B20: 所在地(都道府県)： | D20: ='【シートA 評価結果入力シート】このシートに入力してください】'!D20 -> 0
B21: 所在地(市町村以下)： ※公表しない事項 | D21: ='【シートA 評価結果入力シート】このシートに入力してください】'!D21 -> 0
B22: T E L ： ※公表しない事項 | D22: ='【シートA 評価結果入力シート】このシートに入力してください】'!D22 -> 0
B23: U R L ： | D23: ='【シートA 評価結果入力シート】このシートに入力してください】'!D23 -> 0
B25: ⑥第三者評価の受審状況
B26: 評価実施期間（ア）契約日（開始日） | D26: ='【シートA 評価結果入力シート】このシートに入力してください】'!D53 -> 0
B27: 評価実施期間（イ）評価結果確定日 | D27: ='【シートA 評価結果入力シート】このシートに入力してください】'!D54 -> 0
B28: 前回の受審時期 | D28: ='【シートA 評価結果入力シート】このシートに入力してください】'!D55 -> 年度（和暦）
